BEGIN:VCALENDAR
VERSION:2.0
PRODID:-//Connect Williamsport//Calendar v1.0//EN
BEGIN:VEVENT
UID:c76a72ed683b2be6cdbc33d13a8d80e5ae42b801
DTSTAMP:20260521
DTSTART:20260521T170000
DTEND:20260521T174500
SUMMARY:Balloon Smash Art
END:VEVENT
END:VCALENDAR