BEGIN:VCALENDAR
VERSION:2.0
PRODID:-//Connect Williamsport//Calendar v1.0//EN
BEGIN:VEVENT
UID:2879e16277c02856e641019f7f58ce42eed8860f
DTSTAMP:20260519
DTSTART:20260519T170000
DTEND:20260519T174500
SUMMARY:Rainbow Fish CDs
END:VEVENT
END:VCALENDAR