BEGIN:VCALENDAR
VERSION:2.0
PRODID:-//Connect Williamsport//Calendar v1.0//EN
BEGIN:VEVENT
UID:e2211058b8c1da91eae264e34a3086cc351581de
DTSTAMP:20260513
DTSTART:20260513T170000
DTEND:20260513T180000
SUMMARY:Frogs, Boats, and Things That Float
END:VEVENT
END:VCALENDAR