BEGIN:VCALENDAR
VERSION:2.0
PRODID:-//Connect Williamsport//Calendar v1.0//EN
BEGIN:VEVENT
UID:cdb57508aae2cfb9fa34580bd59d3df117a127e2
DTSTAMP:20260511
DTSTART:20260511T170000
DTEND:20260511T180000
SUMMARY:DIY Squishy
END:VEVENT
END:VCALENDAR