BEGIN:VCALENDAR
VERSION:2.0
PRODID:-//Connect Williamsport//Calendar v1.0//EN
BEGIN:VEVENT
UID:0f10cc4026b72849bd11a495c7553a327330f98c
DTSTAMP:20260505
DTSTART:20260505T170000
DTEND:20260505T174500
SUMMARY:Birdhouse Painting
END:VEVENT
END:VCALENDAR