BEGIN:VCALENDAR
VERSION:2.0
PRODID:-//Connect Williamsport//Calendar v1.0//EN
BEGIN:VEVENT
UID:2cb7e108b9d3002f19e8539fa6540387f292d68d
DTSTAMP:20260526
DTSTART:20260526T160000
DTEND:20260526T164500
SUMMARY:Real People, Real Stories
END:VEVENT
END:VCALENDAR