BEGIN:VCALENDAR
VERSION:2.0
PRODID:-//Connect Williamsport//Calendar v1.0//EN
BEGIN:VEVENT
UID:a708981a7ff87b88e52057a6be6ea337e5a8c906
DTSTAMP:20260522
DTSTART:20260522T103000
DTEND:20260522T110000
SUMMARY:Calm and Kind Storytime
END:VEVENT
END:VCALENDAR