BEGIN:VCALENDAR
VERSION:2.0
PRODID:-//Connect Williamsport//Calendar v1.0//EN
BEGIN:VEVENT
UID:7dae4266af7410707f57e9e9134c0d4d1efb87f0
DTSTAMP:20260528
DTSTART:20260528T103000
DTEND:20260528T110000
SUMMARY:Milestones Matter
END:VEVENT
END:VCALENDAR