BEGIN:VCALENDAR
VERSION:2.0
PRODID:-//Connect Williamsport//Calendar v1.0//EN
BEGIN:VEVENT
UID:761ec40ed74fb62be038e71659a2e3a36b963928
DTSTAMP:20260514
DTSTART:20260514T103000
DTEND:20260514T110000
SUMMARY:Milestones Matter
END:VEVENT
END:VCALENDAR