BEGIN:VCALENDAR
VERSION:2.0
PRODID:-//Connect Williamsport//Calendar v1.0//EN
BEGIN:VEVENT
UID:c0411ba74085f5608fcb524e831058fdf14e163b
DTSTAMP:20260518
DTSTART:20260518T170000
DTEND:20260518T180000
SUMMARY:Teen Takeover
END:VEVENT
END:VCALENDAR