BEGIN:VCALENDAR
VERSION:2.0
PRODID:-//Connect Williamsport//Calendar v1.0//EN
BEGIN:VEVENT
UID:f8cc79ed3e4aadf319af6f84b87e2d7ab2e28b16
DTSTAMP:20260507
DTSTART:20260507T170000
DTEND:20260507T180000
SUMMARY:Diamond Art Stickers
END:VEVENT
END:VCALENDAR