BEGIN:VCALENDAR
VERSION:2.0
PRODID:-//Connect Williamsport//Calendar v1.0//EN
BEGIN:VEVENT
UID:a902411e2e66a57f3f81cbd8e6b3032164937d54
DTSTAMP:20260522
DTSTART:20260522T000000
DTEND:20260522T000000
SUMMARY:Detective Day
END:VEVENT
END:VCALENDAR