BEGIN:VCALENDAR
VERSION:2.0
PRODID:-//Connect Williamsport//Calendar v1.0//EN
BEGIN:VEVENT
UID:3afbae4a1ca9558378b2c370da58bd97fac7869c
DTSTAMP:20260519
DTSTART:20260519T160000
DTEND:20260519T170000
SUMMARY:Creative Crafts with COMHPS
END:VEVENT
END:VCALENDAR