BEGIN:VCALENDAR
VERSION:2.0
PRODID:-//Connect Williamsport//Calendar v1.0//EN
BEGIN:VEVENT
UID:7f675121d0f9fee4f9395d2324facbd25bf3496f
DTSTAMP:20260521
DTSTART:20260521T160000
DTEND:20260521T180000
SUMMARY:Teen Volunteer Hours
END:VEVENT
END:VCALENDAR