BEGIN:VCALENDAR
VERSION:2.0
PRODID:-//Connect Williamsport//Calendar v1.0//EN
BEGIN:VEVENT
UID:a6777713b2fc8a6d2c73a7d98163abb3e5477cc6
DTSTAMP:20260504
DTSTART:20260504T160000
DTEND:20260504T180000
SUMMARY:Teen Volunteer Hours
END:VEVENT
END:VCALENDAR