BEGIN:VCALENDAR
VERSION:2.0
PRODID:-//Connect Williamsport//Calendar v1.0//EN
BEGIN:VEVENT
UID:87657851f5378bc7a7c091e161cc7a256e05420f
DTSTAMP:20260526
DTSTART:20260526T103000
DTEND:20260526T110000
SUMMARY:Wiggle Worms Storytime
END:VEVENT
END:VCALENDAR