BEGIN:VCALENDAR
VERSION:2.0
PRODID:-//Connect Williamsport//Calendar v1.0//EN
BEGIN:VEVENT
UID:eeda7f89b603c10e42bf12d221ed8a35d9995077
DTSTAMP:20260519
DTSTART:20260519T103000
DTEND:20260519T110000
SUMMARY:Wiggle Worms Storytime
END:VEVENT
END:VCALENDAR