BEGIN:VCALENDAR
VERSION:2.0
PRODID:-//Connect Williamsport//Calendar v1.0//EN
BEGIN:VEVENT
UID:11dd2e0e9f749014987a01fe1bfac65b5c3def7f
DTSTAMP:20260512
DTSTART:20260512T103000
DTEND:20260512T110000
SUMMARY:Wiggle Worms Storytime
END:VEVENT
END:VCALENDAR