BEGIN:VCALENDAR
VERSION:2.0
PRODID:-//Connect Williamsport//Calendar v1.0//EN
BEGIN:VEVENT
UID:e20190e71f48cac0e23b2ea49bf758c6ad9c11c8
DTSTAMP:20260505
DTSTART:20260505T103000
DTEND:20260505T110000
SUMMARY:Wiggle Worms Storytime
END:VEVENT
END:VCALENDAR