BEGIN:VCALENDAR
VERSION:2.0
PRODID:-//Connect Williamsport//Calendar v1.0//EN
BEGIN:VEVENT
UID:0907a4a2fff344d5378d88d47c264dfb7ed1ca23
DTSTAMP:20260528
DTSTART:20260528T160000
DTEND:20260528T170000
SUMMARY:Snacktime
END:VEVENT
END:VCALENDAR