BEGIN:VCALENDAR
VERSION:2.0
PRODID:-//Connect Williamsport//Calendar v1.0//EN
BEGIN:VEVENT
UID:59481e9a25c48a9db88604d0f9a8d82a436c4866
DTSTAMP:20260526
DTSTART:20260526T160000
DTEND:20260526T170000
SUMMARY:Snacktime
END:VEVENT
END:VCALENDAR