BEGIN:VCALENDAR
VERSION:2.0
PRODID:-//Connect Williamsport//Calendar v1.0//EN
BEGIN:VEVENT
UID:da6fd094acdd4fadc335c3211499ac6bfd01f46b
DTSTAMP:20260521
DTSTART:20260521T160000
DTEND:20260521T170000
SUMMARY:Snacktime
END:VEVENT
END:VCALENDAR