BEGIN:VCALENDAR
VERSION:2.0
PRODID:-//Connect Williamsport//Calendar v1.0//EN
BEGIN:VEVENT
UID:e303cb180a2b12c3f9b3319309d69025872c60e7
DTSTAMP:20260519
DTSTART:20260519T160000
DTEND:20260519T170000
SUMMARY:Snacktime
END:VEVENT
END:VCALENDAR