BEGIN:VCALENDAR
VERSION:2.0
PRODID:-//Connect Williamsport//Calendar v1.0//EN
BEGIN:VEVENT
UID:1d1f4e26178f1c8a4016d4796a965c0b4f7376d1
DTSTAMP:20260514
DTSTART:20260514T160000
DTEND:20260514T170000
SUMMARY:Snacktime
END:VEVENT
END:VCALENDAR