BEGIN:VCALENDAR
VERSION:2.0
PRODID:-//Connect Williamsport//Calendar v1.0//EN
BEGIN:VEVENT
UID:32e648fc09c6e2ff6636f1df61cb1bec0390b3cf
DTSTAMP:20260512
DTSTART:20260512T160000
DTEND:20260512T170000
SUMMARY:Snacktime
END:VEVENT
END:VCALENDAR