BEGIN:VCALENDAR
VERSION:2.0
PRODID:-//Connect Williamsport//Calendar v1.0//EN
BEGIN:VEVENT
UID:7963d52010c59358675cb80b2e1efb05d78b77e1
DTSTAMP:20260507
DTSTART:20260507T160000
DTEND:20260507T170000
SUMMARY:Snacktime
END:VEVENT
END:VCALENDAR