BEGIN:VCALENDAR
VERSION:2.0
PRODID:-//Connect Williamsport//Calendar v1.0//EN
BEGIN:VEVENT
UID:d6699fbe5f3d6e690bc064357c0a217bdf12a945
DTSTAMP:20260505
DTSTART:20260505T160000
DTEND:20260505T170000
SUMMARY:Snacktime
END:VEVENT
END:VCALENDAR