BEGIN:VCALENDAR
VERSION:2.0
PRODID:-//Connect Williamsport//Calendar v1.0//EN
BEGIN:VEVENT
UID:ef7da790ff407a5de28cbc2e75208d8ea975bb21
DTSTAMP:20260526
DTSTART:20260526T103000
DTEND:20260526T110000
SUMMARY:Preschool Storytime
END:VEVENT
END:VCALENDAR