BEGIN:VCALENDAR
VERSION:2.0
PRODID:-//Connect Williamsport//Calendar v1.0//EN
BEGIN:VEVENT
UID:53545cb2b0c96780b367dd6bbb946ef8d57fb4e9
DTSTAMP:20260519
DTSTART:20260519T103000
DTEND:20260519T110000
SUMMARY:Preschool Storytime
END:VEVENT
END:VCALENDAR