BEGIN:VCALENDAR
VERSION:2.0
PRODID:-//Connect Williamsport//Calendar v1.0//EN
BEGIN:VEVENT
UID:62bc273b68a85f6543ea58089985393fc6f8ad79
DTSTAMP:20260512
DTSTART:20260512T103000
DTEND:20260512T110000
SUMMARY:Preschool Storytime
END:VEVENT
END:VCALENDAR