BEGIN:VCALENDAR
VERSION:2.0
PRODID:-//Connect Williamsport//Calendar v1.0//EN
BEGIN:VEVENT
UID:f7f104a43ad31b06b88012b5984481735c986266
DTSTAMP:20260505
DTSTART:20260505T103000
DTEND:20260505T110000
SUMMARY:Preschool Storytime
END:VEVENT
END:VCALENDAR