BEGIN:VCALENDAR
VERSION:2.0
PRODID:-//Connect Williamsport//Calendar v1.0//EN
BEGIN:VEVENT
UID:de7aedc969691f6d1c71cbe3a84fc61ee6760ee4
DTSTAMP:20260530
DTSTART:20260530T093000
DTEND:20260530T121500
SUMMARY:Family Board Game Saturdays
END:VEVENT
END:VCALENDAR