BEGIN:VCALENDAR
VERSION:2.0
PRODID:-//Connect Williamsport//Calendar v1.0//EN
BEGIN:VEVENT
UID:2561e6c1b34fb7d420f9a02d66a98842cca2cc96
DTSTAMP:20260523
DTSTART:20260523T093000
DTEND:20260523T121500
SUMMARY:Family Board Game Saturdays
END:VEVENT
END:VCALENDAR