BEGIN:VCALENDAR
VERSION:2.0
PRODID:-//Connect Williamsport//Calendar v1.0//EN
BEGIN:VEVENT
UID:c9294b69c2e5f65c9f8654b7e83cec2711cd3ec8
DTSTAMP:20260516
DTSTART:20260516T093000
DTEND:20260516T121500
SUMMARY:Family Board Game Saturdays
END:VEVENT
END:VCALENDAR