BEGIN:VCALENDAR
VERSION:2.0
PRODID:-//Connect Williamsport//Calendar v1.0//EN
BEGIN:VEVENT
UID:be70d794381c6b38ed992f93610d4970dfef5bed
DTSTAMP:20260509
DTSTART:20260509T093000
DTEND:20260509T121500
SUMMARY:Family Board Game Saturdays
END:VEVENT
END:VCALENDAR