BEGIN:VCALENDAR
VERSION:2.0
PRODID:-//Connect Williamsport//Calendar v1.0//EN
BEGIN:VEVENT
UID:b97bf75e95639f99b3c465b8987ef05882443231
DTSTAMP:20260502
DTSTART:20260502T093000
DTEND:20260502T121500
SUMMARY:Family Board Game Saturdays
END:VEVENT
END:VCALENDAR