BEGIN:VCALENDAR
VERSION:2.0
PRODID:-//Connect Williamsport//Calendar v1.0//EN
BEGIN:VEVENT
UID:6e45336217b30c4d868db7a6f7d1a156b80d5a3f
DTSTAMP:20260421
DTSTART:20260421T160000
DTEND:20260421T170000
SUMMARY:Creative Crafts with COMHPS
END:VEVENT
END:VCALENDAR