BEGIN:VCALENDAR
VERSION:2.0
PRODID:-//Connect Williamsport//Calendar v1.0//EN
BEGIN:VEVENT
UID:f6290b43b01e58bf6818e6ce439c810a436f78b4
DTSTAMP:20260423
DTSTART:20260423T103000
DTEND:20260423T110000
SUMMARY:Milestones Matter
END:VEVENT
END:VCALENDAR