BEGIN:VCALENDAR
VERSION:2.0
PRODID:-//Connect Williamsport//Calendar v1.0//EN
BEGIN:VEVENT
UID:dd27a4bcdf24243fd24170589b6cbaf069335841
DTSTAMP:20260428
DTSTART:20260428T160000
DTEND:20260428T170000
SUMMARY:Real People, Real Stories
END:VEVENT
END:VCALENDAR