BEGIN:VCALENDAR
VERSION:2.0
PRODID:-//Connect Williamsport//Calendar v1.0//EN
BEGIN:VEVENT
UID:0e3f3c1b3e8ee878911b57862cdf185f695f49c4
DTSTAMP:20260427
DTSTART:20260427T170000
DTEND:20260427T180000
SUMMARY:Teen Takeover
END:VEVENT
END:VCALENDAR