BEGIN:VCALENDAR
VERSION:2.0
PRODID:-//Connect Williamsport//Calendar v1.0//EN
BEGIN:VEVENT
UID:7d497d806edeb183e6baa302445199a2cb48afe4
DTSTAMP:20260430
DTSTART:20260430T170000
DTEND:20260430T180000
SUMMARY:Dazzling Disco Balls
END:VEVENT
END:VCALENDAR