BEGIN:VCALENDAR
VERSION:2.0
PRODID:-//Connect Williamsport//Calendar v1.0//EN
BEGIN:VEVENT
UID:b83fe9557340993838cba9747acd33c5957b2f6d
DTSTAMP:20260429
DTSTART:20260429T170000
DTEND:20260429T180000
SUMMARY:DIY Paintbrushes
END:VEVENT
END:VCALENDAR