BEGIN:VCALENDAR
VERSION:2.0
PRODID:-//Connect Williamsport//Calendar v1.0//EN
BEGIN:VEVENT
UID:20ecddb37198c4e34570cb4779dca3f757167e25
DTSTAMP:20260430
DTSTART:20260430T160000
DTEND:20260430T170000
SUMMARY:Snacktime
END:VEVENT
END:VCALENDAR