BEGIN:VCALENDAR
VERSION:2.0
PRODID:-//Connect Williamsport//Calendar v1.0//EN
BEGIN:VEVENT
UID:3ac9ab95cadfceb2d67642951611468c92912ca9
DTSTAMP:20260428
DTSTART:20260428T160000
DTEND:20260428T170000
SUMMARY:Snacktime
END:VEVENT
END:VCALENDAR