BEGIN:VCALENDAR
VERSION:2.0
PRODID:-//Connect Williamsport//Calendar v1.0//EN
BEGIN:VEVENT
UID:249ff90d07cfe0d513402089319d92ad8bcc3d18
DTSTAMP:20260423
DTSTART:20260423T160000
DTEND:20260423T170000
SUMMARY:Snacktime
END:VEVENT
END:VCALENDAR