BEGIN:VCALENDAR
VERSION:2.0
PRODID:-//Connect Williamsport//Calendar v1.0//EN
BEGIN:VEVENT
UID:990432b152a6291d87ab21f0a04ae3603989b388
DTSTAMP:20260421
DTSTART:20260421T160000
DTEND:20260421T170000
SUMMARY:Snacktime
END:VEVENT
END:VCALENDAR