BEGIN:VCALENDAR
VERSION:2.0
PRODID:-//Connect Williamsport//Calendar v1.0//EN
BEGIN:VEVENT
UID:45169dc5720e8c0179d4f16f20ed83833dd03ccf
DTSTAMP:20260428
DTSTART:20260428T103000
DTEND:20260428T110000
SUMMARY:Preschool Storytime
END:VEVENT
END:VCALENDAR