BEGIN:VCALENDAR
VERSION:2.0
PRODID:-//Connect Williamsport//Calendar v1.0//EN
BEGIN:VEVENT
UID:c21dcc38c63bc4e85c6271fb6333e5e34a55bcce
DTSTAMP:20260421
DTSTART:20260421T103000
DTEND:20260421T110000
SUMMARY:Preschool Storytime
END:VEVENT
END:VCALENDAR