BEGIN:VCALENDAR
VERSION:2.0
PRODID:-//Connect Williamsport//Calendar v1.0//EN
BEGIN:VEVENT
UID:ade11b44b4da21b64298dd69b3acbb25d4b500f7
DTSTAMP:20260425
DTSTART:20260425T093000
DTEND:20260425T121500
SUMMARY:Family Board Game Saturdays
END:VEVENT
END:VCALENDAR