BEGIN:VCALENDAR
VERSION:2.0
PRODID:-//Connect Williamsport//Calendar v1.0//EN
BEGIN:VEVENT
UID:297ee6ffd7b8f947396451624e1ff0e2a55bab1a
DTSTAMP:20260423
DTSTART:20260423T173000
DTEND:20260423T190000
SUMMARY:Paint a Tote Bag
END:VEVENT
END:VCALENDAR